BEGIN:VCALENDAR
VERSION:2.0
PRODID:Events Booking
BEGIN:VEVENT
UID:69e9ca728eae9
SUMMARY:Using the Extruder for Creative Ceramics
DESCRIPTION:
LOCATION:323 Franklin Road\, Highlands\, NC 28741 
DTSTART:20260424T130000Z
DTEND:20260426T200000Z
DTSTAMP:20251229T200704Z
ORGANIZER;CN=The Bascom:MAILTO:info@thebascom.org
GEO:35.05781;-83.204179
X-APPLE-STRUCTURED-LOCATION;VALUE=URI;X-ADDRESS=323 Franklin Road\, Highlan
 ds\, NC 28741 ;X-APPLE-RADIUS=72;X-TITLE=Dave Drake Barn:35.05781;-83.2041
 79
END:VEVENT
END:VCALENDAR