BEGIN:VCALENDAR
VERSION:2.0
PRODID:Events Booking
BEGIN:VEVENT
UID:69e9f01190177
SUMMARY:Sculpting Animal Vessels 
DESCRIPTION:Join us for an immersive dive into learning how to transform yo
 ur pots into sculptural animal vessels! Using techniques of throwing and h
 and-building\, students will form vessels that incorporate animal figures 
 by sculpting\, carving\, and alteration. Instruction will cover basic scul
 pting techniques such as the hollowing method and how to give the animals 
 expression and defining characteristics such as eyes\, ears\, and motion. 
 Katie will work individually with each student to help create a pleasing c
 omposition\, structural integrity and visual interest in their artworks. C
 lass will also include guidance about different ways to glaze and fire the
  finished work. A basic ability to throw or hand-build a vessel is necessa
 ry\, students can be beginners at sculpting.
LOCATION:323 Franklin Road\, Highlands\, NC 28741 
DTSTART:20260806T130000Z
DTEND:20260808T200000Z
DTSTAMP:20260103T004305Z
ORGANIZER;CN=The Bascom:MAILTO:info@thebascom.org
GEO:35.05781;-83.204179
X-APPLE-STRUCTURED-LOCATION;VALUE=URI;X-ADDRESS=323 Franklin Road\, Highlan
 ds\, NC 28741 ;X-APPLE-RADIUS=72;X-TITLE=Dave Drake Barn:35.05781;-83.2041
 79
END:VEVENT
END:VCALENDAR