BEGIN:VCALENDAR
VERSION:2.0
PRODID:Events Booking
BEGIN:VEVENT
UID:69e9dd33f3ac4
SUMMARY:16th Annual Bascom Clay Symposium 
DESCRIPTION:The Bascom Clay Symposium returns for its 16th year in 2026\, b
 ringing together ceramic artists Alexander Thierry\, Andrew Shaw\, and Tif
 fany Thomas for a focused exploration of surface treatments in contemporar
 y clay. Through demonstrations and shared dialogue\, the artists examine h
 ow imagery\, pattern\, and material process shape meaning\, memory\, and e
 xpression in ceramic work.
LOCATION:323 Franklin Road\, Highlands\, NC 28741 
DTSTART:20260926T140000Z
DTEND:20260926T200000Z
DTSTAMP:20260109T013029Z
ORGANIZER;CN=The Bascom:MAILTO:info@thebascom.org
GEO:35.05781;-83.204179
X-APPLE-STRUCTURED-LOCATION;VALUE=URI;X-ADDRESS=323 Franklin Road\, Highlan
 ds\, NC 28741 ;X-APPLE-RADIUS=72;X-TITLE=Dave Drake Barn:35.05781;-83.2041
 79
END:VEVENT
END:VCALENDAR