BEGIN:VCALENDAR
VERSION:2.0
PRODID:Events Booking
BEGIN:VEVENT
UID:69e9bb8deb9d1
SUMMARY:Youth Printmaking: Garden Party Monoprints!
DESCRIPTION:Celebrate the colors and textures of summer while exploring mon
 oprinting techniques in a fun\, hands-on workshop. Using flowers\, leaves\
 , and other garden materials\, students will learn the basics of gelli pla
 te printmaking and experiment with printing on one of The Bascom’s press
 es.
 This beginner-friendly class requires no prior experience and result
 s in vibrant prints that can be enjoyed on their own or used as inspiratio
 n for future art projects.
 Ages 7-12
LOCATION:323 Franklin Road\, Highlands\, NC 28741
DTSTART:20260801T140000Z
DTEND:20260801T160000Z
DTSTAMP:20260122T221246Z
ORGANIZER;CN=The Bascom:MAILTO:info@thebascom.org
GEO:35.05781;-83.204179
X-APPLE-STRUCTURED-LOCATION;VALUE=URI;X-ADDRESS=323 Franklin Road\, Highlan
 ds\, NC 28741;X-APPLE-RADIUS=72;X-TITLE=The Bascom: Hughes Children's Stud
 io (Trail Level):35.05781;-83.204179
END:VEVENT
END:VCALENDAR