BEGIN:VCALENDAR
VERSION:2.0
PRODID:Events Booking
BEGIN:VEVENT
UID:69e9bb6e3483c
SUMMARY:Youth Collage: Everything's Dahlias!
DESCRIPTION:Young artists will explore color\, texture\, and layering as th
 ey create vibrant collages inspired by the bold shapes and beauty of dahli
 as.
 All Matierials included. Ages 7-12
LOCATION:323 Franklin Road\, Highlands\, NC 28741
DTSTART:20260912T140000Z
DTEND:20260912T160000Z
DTSTAMP:20260123T014808Z
ORGANIZER;CN=The Bascom:MAILTO:info@thebascom.org
GEO:35.05781;-83.204179
X-APPLE-STRUCTURED-LOCATION;VALUE=URI;X-ADDRESS=323 Franklin Road\, Highlan
 ds\, NC 28741;X-APPLE-RADIUS=72;X-TITLE=The Bascom: Hughes Children's Stud
 io (Trail Level):35.05781;-83.204179
END:VEVENT
END:VCALENDAR