BEGIN:VCALENDAR
VERSION:2.0
PRODID:Events Booking
BEGIN:VEVENT
UID:69e9bb3a9e8df
SUMMARY:All Ages Pottery: Gingerbread Mug
DESCRIPTION:Make a special holiday mug. Work will be available for pickup o
 r shipping two to three weeks after class.&nbsp\;
 Suitable for ages 6 an
 d up.
LOCATION:323 Franklin Road\, Highlands\, NC 28741 
DTSTART:20261114T150000Z
DTEND:20261114T170000Z
DTSTAMP:20251217T210149Z
ORGANIZER;CN=The Bascom:MAILTO:info@thebascom.org
GEO:35.05781;-83.204179
X-APPLE-STRUCTURED-LOCATION;VALUE=URI;X-ADDRESS=323 Franklin Road\, Highlan
 ds\, NC 28741 ;X-APPLE-RADIUS=72;X-TITLE=Dave Drake Barn:35.05781;-83.2041
 79
END:VEVENT
END:VCALENDAR