BEGIN:VCALENDAR
VERSION:2.0
PRODID:Events Booking
BEGIN:VEVENT
UID:69e9b8ff8db41
SUMMARY:Studio Dahlia Pottery Show
DESCRIPTION:Bascom Studio Members will present a collection of wall pockets
  and vases\, adorned with fresh dahlias\, which will be available for purc
 hase during the Dazzling Dahlia Festival. Don't miss the chance to visit t
 he Studio Barn and be truly dazzled!
LOCATION:323 Franklin Road\, Highlands\, NC 28741 
DTSTART:20260911T140000Z
DTEND:20260912T200000Z
DTSTAMP:20260106T231045Z
ORGANIZER;CN=The Bascom:MAILTO:info@thebascom.org
GEO:35.05781;-83.204179
X-APPLE-STRUCTURED-LOCATION;VALUE=URI;X-ADDRESS=323 Franklin Road\, Highlan
 ds\, NC 28741 ;X-APPLE-RADIUS=72;X-TITLE=Dave Drake Barn:35.05781;-83.2041
 79
END:VEVENT
END:VCALENDAR