BEGIN:VCALENDAR
VERSION:2.0
PRODID:Events Booking
BEGIN:VEVENT
UID:69e9a869b5726
SUMMARY:Meet the Artist: Louise Pond
DESCRIPTION:The Bascom\, in collaboration with Highlands Sotheby's Internat
 ional Realty\, invites you to meet pastel artist Louise Pond at a special 
 reception on Friday\, May 1\, from 4:30 to 6 pm. A selection of Pond's wor
 k will be available for purchase at the event. Additional works are availa
 ble in The Bascom Shop.
 Hosted by Highlands Sotheby's International Real
 ty | 114 N. 4th St.\, Highlands
LOCATION:323 Franklin Rd.\, Highlands\, NC 28741
DTSTART:20260501T203000Z
DTEND:20260501T220000Z
DTSTAMP:20260310T195510Z
ORGANIZER;CN=The Bascom:MAILTO:info@thebascom.org
GEO:35.05312;0
X-APPLE-STRUCTURED-LOCATION;VALUE=URI;X-ADDRESS=323 Franklin Rd.\, Highland
 s\, NC 28741;X-APPLE-RADIUS=72;X-TITLE=Off Campus:35.05312;0
END:VEVENT
END:VCALENDAR