BEGIN:VCALENDAR
VERSION:2.0
PRODID:Events Booking
BEGIN:VEVENT
UID:69e9a9570b6bd
SUMMARY:Game of Shrooms (Scavenger Hunt)
DESCRIPTION:&nbsp\;Search along The Bascom’s Horst Winkler Sculpture Trai
 l for a clay mushroom during&nbsp\; Game of Shrooms\, a worldwide art scav
 enger hunt.
LOCATION:The Bascom
DTSTART:20260613T133000Z
DTEND:20260613T210000Z
DTSTAMP:20251218T015108Z
ORGANIZER;CN=The Bascom:MAILTO:info@thebascom.org
GEO:28.61492;77.22173
X-APPLE-STRUCTURED-LOCATION;VALUE=URI;X-ADDRESS=The Bascom;X-APPLE-RADIUS=7
 2;X-TITLE=Bascom Campus:28.61492;77.22173
END:VEVENT
END:VCALENDAR