BEGIN:VCALENDAR
VERSION:2.0
PRODID:Events Booking
BEGIN:VEVENT
UID:69e9be3a6b573
SUMMARY:All Ages Pottery: Luminary Trees
DESCRIPTION:Make a luminary tree that can be used with real or electric can
 dles. Work will be available for pickup or shipping two to three weeks aft
 er class.
 Suitable for ages 6 and up.
LOCATION:323 Franklin Road\, Highlands\, NC 28741 
DTSTART:20261205T150000Z
DTEND:20261205T170000Z
DTSTAMP:20251217T201637Z
ORGANIZER;CN=The Bascom:MAILTO:info@thebascom.org
GEO:35.05781;-83.204179
X-APPLE-STRUCTURED-LOCATION;VALUE=URI;X-ADDRESS=323 Franklin Road\, Highlan
 ds\, NC 28741 ;X-APPLE-RADIUS=72;X-TITLE=Dave Drake Barn:35.05781;-83.2041
 79
END:VEVENT
END:VCALENDAR