BEGIN:VCALENDAR
VERSION:2.0
PRODID:Events Booking
BEGIN:VEVENT
UID:69e9b91ad7337
SUMMARY:The Landscape Reimagined Using Oil and Cold Wax with Cath Connolly 
 Hudson
DESCRIPTION:View the Supply List HERE
 This workshop invites you to move b
 eyond literal representation and explore abstraction as a way of seeing\, 
 interpreting\, and responding to the landscape. Using cold wax with oils y
 ou will learn to build texture\, depth and luminosity to your work. This e
 ngaging workshop will allow you to expand and explore new ways of creative
  expression and mark making.&nbsp\;
LOCATION:323 Franklin Road\, Highlands\, NC 28741
DTSTART:20261028T140000Z
DTEND:20261030T200000Z
DTSTAMP:20251217T201837Z
ORGANIZER;CN=The Bascom:MAILTO:info@thebascom.org
GEO:35.05781;-83.204179
X-APPLE-STRUCTURED-LOCATION;VALUE=URI;X-ADDRESS=323 Franklin Road\, Highlan
 ds\, NC 28741;X-APPLE-RADIUS=72;X-TITLE=The Bascom: Adult Studio B (Trail 
 Level):35.05781;-83.204179
END:VEVENT
END:VCALENDAR