BEGIN:VCALENDAR
VERSION:2.0
PRODID:Events Booking
BEGIN:VEVENT
UID:69e9b91cdc742
SUMMARY:Intro to Watercolor I: Learning the Strokes
DESCRIPTION:Artists will have the opportunity to try their hand at watercol
 or\, learning a variety of Watercolor strokes. Guided by your experienced 
 instructor\, Caryn Raming\, this workshop is perfect for those who haven
 ’t tried watercolor in a while\, or those who are brand new to the mediu
 m!
 All Materials are provided – just bring your willingness to learn. 
 Come ready to paint\, explore\, and grow your skills in a supportive\, cre
 ative environment.
LOCATION:323 Franklin Road\, Highlands\, NC 28741
DTSTART:20260718T140000Z
DTEND:20260718T160000Z
DTSTAMP:20260122T023347Z
ORGANIZER;CN=The Bascom:MAILTO:info@thebascom.org
GEO:35.05781;-83.204179
X-APPLE-STRUCTURED-LOCATION;VALUE=URI;X-ADDRESS=323 Franklin Road\, Highlan
 ds\, NC 28741;X-APPLE-RADIUS=72;X-TITLE=The Bascom: Adult Studio B (Trail 
 Level):35.05781;-83.204179
END:VEVENT
END:VCALENDAR