BEGIN:VCALENDAR
VERSION:2.0
PRODID:Events Booking
BEGIN:VEVENT
UID:69e9a91994912
SUMMARY:Breaking into Portrait Painting in Oils with Nicholas Thorp
DESCRIPTION:View the Supply List HERE
 In this hands-on workshop you will 
 paint four portraits over three days to establish a foundation in painting
  portraits in oil. Three portraits will be painted with an alla prima tech
 nique\, and one will be painted using the slower indirect\, academic appro
 ach. This will give you a wide variety of tools to start you on the exciti
 ng road of painting portraits.
LOCATION:323 Franklin Road\, Highlands\, NC 28741
DTSTART:20260513T130000Z
DTEND:20260515T200000Z
DTSTAMP:20251209T225505Z
ORGANIZER;CN=The Bascom:MAILTO:info@thebascom.org
GEO:35.05781;-83.204179
X-APPLE-STRUCTURED-LOCATION;VALUE=URI;X-ADDRESS=323 Franklin Road\, Highlan
 ds\, NC 28741;X-APPLE-RADIUS=72;X-TITLE=The Bascom: Adult Studio B (Trail 
 Level):35.05781;-83.204179
END:VEVENT
END:VCALENDAR