BEGIN:VCALENDAR
VERSION:2.0
PRODID:Events Booking
BEGIN:VEVENT
UID:69e9b979410a0
SUMMARY:Arranging with Showpiece Flowers: Locally Grown Mountain Dahlias wi
 th Christy Curcuru
DESCRIPTION:Learn how to use locally farmed flowers and foraged greens to c
 reate a large\, lush dahlia-focused arrangement in a ceramic footed compot
 e.
 Artist and floral stylist\, Christy Curcuru\, will demonstrate how to
  arrange a large centerpiece while talking you through her design philosop
 hy (structural principles\, color theory\, texture\, shape and scale). Eac
 h attendee will receive hands-on guidance throughout the entire process\, 
 ending with help photographing finished work to cherish forever. If time a
 llows\, Christy will demonstrate how to work with other vessels you might 
 have at home. Please bring a vessel you have questions about!&nbsp\; All o
 ther supplies included.
LOCATION:323 Franklin Road\, Highlands\, NC 28741
DTSTART:20260910T140000Z
DTEND:20260910T170000Z
DTSTAMP:20251226T202659Z
ORGANIZER;CN=The Bascom:MAILTO:info@thebascom.org
GEO:35.05781;-83.204179
X-APPLE-STRUCTURED-LOCATION;VALUE=URI;X-ADDRESS=323 Franklin Road\, Highlan
 ds\, NC 28741;X-APPLE-RADIUS=72;X-TITLE=The Bascom: Adult Studio B (Trail 
 Level):35.05781;-83.204179
END:VEVENT
END:VCALENDAR