BEGIN:VCALENDAR
VERSION:2.0
PRODID:Events Booking
BEGIN:VEVENT
UID:69e9b91b77626
SUMMARY:Beginner Needle Felting: Autumn Scene
DESCRIPTION:Create festive St. Patrick’s Day felt projects while explorin
 g fun\, hands-on felting techniques.
LOCATION:323 Franklin Road\, Highlands\, NC 28741
DTSTART:20261107T190000Z
DTEND:20261107T210000Z
DTSTAMP:20260124T202614Z
ORGANIZER;CN=The Bascom:MAILTO:info@thebascom.org
GEO:35.05781;-83.204179
X-APPLE-STRUCTURED-LOCATION;VALUE=URI;X-ADDRESS=323 Franklin Road\, Highlan
 ds\, NC 28741;X-APPLE-RADIUS=72;X-TITLE=The Bascom: Hughes Children's Stud
 io (Trail Level):35.05781;-83.204179
END:VEVENT
END:VCALENDAR