BEGIN:VCALENDAR
VERSION:2.0
PRODID:Events Booking
BEGIN:VEVENT
UID:69e9cabdcae96
SUMMARY:Youth Needle Felting: Thanksgiving Turkey!
DESCRIPTION:Create a festive Thanksgiving Day felt turkey while exploring f
 un\, hands-on felting techniques.
 Ages: 7-12
LOCATION:323 Franklin Road\, Highlands\, NC 28741
DTSTART:20261107T150000Z
DTEND:20261107T170000Z
DTSTAMP:20260124T202402Z
ORGANIZER;CN=The Bascom:MAILTO:info@thebascom.org
GEO:35.05781;-83.204179
X-APPLE-STRUCTURED-LOCATION;VALUE=URI;X-ADDRESS=323 Franklin Road\, Highlan
 ds\, NC 28741;X-APPLE-RADIUS=72;X-TITLE=The Bascom: Hughes Children's Stud
 io (Trail Level):35.05781;-83.204179
END:VEVENT
END:VCALENDAR