BEGIN:VCALENDAR
VERSION:2.0
PRODID:Events Booking
BEGIN:VEVENT
UID:69e9cb056a168
SUMMARY:Saturday Sojourn with Paint - Big Bloom Energy
DESCRIPTION:Celebrate Dahlias with a playful\, beginner-friendly painting w
 orkshop inspired by the color and energy of dahlias. Using abstraction and
  expressive mark-making\, participants will create a vibrant floral-inspir
 ed painting—no experience required. A fun\, creative way to engage with 
 the festival and explore painting in a relaxed\, supportive setting.
 Thi
 s class is for anyone passionate about Dahlias and wants to capture this p
 assion in a painting!
 All materials are provided. You will go home with 
 a painting!
LOCATION:323 Franklin Road\, Highlands\, NC 28741
DTSTART:20260919T140000Z
DTEND:20260919T190000Z
DTSTAMP:20260204T015620Z
ORGANIZER;CN=The Bascom:MAILTO:info@thebascom.org
GEO:35.05781;-83.204179
X-APPLE-STRUCTURED-LOCATION;VALUE=URI;X-ADDRESS=323 Franklin Road\, Highlan
 ds\, NC 28741;X-APPLE-RADIUS=72;X-TITLE=The Bascom: Adult Studio B (Trail 
 Level):35.05781;-83.204179
END:VEVENT
END:VCALENDAR