BEGIN:VCALENDAR
VERSION:2.0
PRODID:Events Booking
BEGIN:VEVENT
UID:69e9b93cce0c3
SUMMARY:Kids Clay Camp - Little Kids Handbuilding Camp
DESCRIPTION:Clay Camp for our youngest potters! Try out different methods o
 f handbuilding pottery. In this three-day workshop we will explore using c
 lay to create functional and decorative ceramics. Student work will be fir
 ed after the class and available for pickup or shipping two to three weeks
  after the last class.
 Ages:
 4-7
LOCATION:323 Franklin Road\, Highlands\, NC 28741 
DTSTART:20260707T140000Z
DTEND:20260709T160000Z
DTSTAMP:20251218T030005Z
ORGANIZER;CN=The Bascom:MAILTO:info@thebascom.org
GEO:35.05781;-83.204179
X-APPLE-STRUCTURED-LOCATION;VALUE=URI;X-ADDRESS=323 Franklin Road\, Highlan
 ds\, NC 28741 ;X-APPLE-RADIUS=72;X-TITLE=The Studio Covered Terrace:35.057
 81;-83.204179
END:VEVENT
END:VCALENDAR