BEGIN:VCALENDAR
VERSION:2.0
PRODID:Events Booking
BEGIN:VEVENT
UID:69e9b80a07a1b
SUMMARY:From Tuber to Trophy: A Dahlia Growers' Talk
DESCRIPTION:A show-worthy dahlia doesn't happen by accident. Join seasoned 
 growers Peggy Boruchow Arnette and Libby Eustis for a conversation rooted 
 in the practical art of growing a bloom that's ready for the judge's eye. 
 Whether you're starting from a tuber\, a cutting\, or a seed\, this talk w
 ill walk you through the decisions and details that matter most — from s
 oil amendments and staking to the small daily habits that separate a good 
 bloom from a great one.
 
DTSTART:20260530T150000Z
DTEND:20260530T160000Z
DTSTAMP:20260326T231003Z
ORGANIZER;CN=The Bascom:MAILTO:info@thebascom.org
END:VEVENT
END:VCALENDAR