BEGIN:VCALENDAR
VERSION:2.0
PRODID:Events Booking
BEGIN:VEVENT
UID:69e9ca6f160dc
SUMMARY:Still Life Drawing with Steve Reagan
DESCRIPTION:View the Supply List Here
 This introductory drawing class wit
 h Steve Reagan\, art teacher and owner of Space Age Makers\, explores the 
 fundamentals of still life drawing\, including perspective\, composition\,
  value\, and basic drawing theory. Participants will work with essential m
 aterials to create both quick sketches and more finished drawings in a rel
 axed\, supportive environment. Designed for beginners and those seeking a 
 refresher\, the course builds foundational skills that support drawing\, p
 ainting\, and broader art practice.
LOCATION:323 Franklin Road\, Highlands\, NC 28741
DTSTART:20260603T140000Z
DTEND:20260605T200000Z
DTSTAMP:20251206T005251Z
ORGANIZER;CN=The Bascom:MAILTO:info@thebascom.org
GEO:35.05781;-83.204179
X-APPLE-STRUCTURED-LOCATION;VALUE=URI;X-ADDRESS=323 Franklin Road\, Highlan
 ds\, NC 28741;X-APPLE-RADIUS=72;X-TITLE=The Bascom: Adult Studio B (Trail 
 Level):35.05781;-83.204179
END:VEVENT
END:VCALENDAR