BEGIN:VCALENDAR
VERSION:2.0
PRODID:Events Booking
BEGIN:VEVENT
UID:69e9cd72e0db8
SUMMARY:Spring Exhibition Reception 
DESCRIPTION:The season's first reception centers on mentorship\, material e
 xploration\, and the many ways artists learn from one another across gener
 ations. The afternoon begins with a 2 pm artist talk by Casey Schachner\, 
 The Bascom's 2025–2026 Winter Resident Artist\, who will discuss the pro
 cess-driven sculptural investigations that shape her residency exhibition.
  Following the talk\, guests are invited to join the reception\, meet part
 icipating faculty and student artists from across the Southeast\, and enga
 ge with Bascom instructors whose practices inform the foundation of our ed
 ucational programs. Also on view in the Education Gallery\, Drawn to the P
 lateau celebrates the creativity and talent of young artists from across t
 he Plateau\, created in partnership with the Boys &amp\; Girls Club of the
  Plateau. The event cultivates an atmosphere of dialogue and shared curios
 ity\, a welcoming entry point into the year's exhibition season.
DTSTART:20260321T190000Z
DTEND:20260321T210000Z
DTSTAMP:20251211T202041Z
ORGANIZER;CN=The Bascom:MAILTO:info@thebascom.org
END:VEVENT
END:VCALENDAR