BEGIN:VCALENDAR
VERSION:2.0
PRODID:Events Booking
BEGIN:VEVENT
UID:69e9b84b81262
SUMMARY:Meet the Artist - Christian Palazzolo 
DESCRIPTION:At just 15 years old\, Christian Palazzolo is already earning i
 nternational recognition for his automotive photography. His photograph 91
 1 Sunset — a dusk portrait of a rare teal Porsche 911 GT3 Touring — to
 ok second place in the International Photography Awards\, Auto Category. H
 is photo London Fog\, a Blue Bentley captured in Cashiers\, NC\, placed in
  the prestigious Top 100 of the Auto Photo Awards among thousands of entri
 es worldwide. Palazzolo’s work is on view in the Bascom Shop throughout 
 June. Join him for a trunk show June 12–13\, when a featured Porsche fro
 m Porsche Asheville will be on display outside.
DTSTART:20260612T180000Z
DTEND:20260613T200000Z
DTSTAMP:20260414T193324Z
ORGANIZER;CN=The Bascom:MAILTO:info@thebascom.org
END:VEVENT
END:VCALENDAR