BEGIN:VCALENDAR
VERSION:2.0
PRODID:Events Booking
BEGIN:VEVENT
UID:69e9c9b456885
SUMMARY:Artist Talk with Dean Kessmann
DESCRIPTION:In conjunction with the opening of his Photography Resident Exh
 ibition\, Dean Kessmann will speak about the practice behind the work\, th
 e walking\, the looking\, and the attention to everyday landscapes that sh
 ape each image. His photographs\, produced primarily in and around Washing
 ton\, DC\, move along the threshold between representation and abstraction
 \, asking whether the camera records the world as it appears or transforms
  it into something newly perceived.
DTSTART:20260418T190000Z
DTEND:20260418T200000Z
DTSTAMP:20260326T173749Z
ORGANIZER;CN=The Bascom:MAILTO:info@thebascom.org
END:VEVENT
END:VCALENDAR