BEGIN:VCALENDAR
VERSION:2.0
PRODID:Events Booking
BEGIN:VEVENT
UID:69e9cb364e2d4
SUMMARY:15th Annual Summer Pottery Show  
DESCRIPTION:Now in its fifteenth year\, The Bascom’s seasonal pottery sho
 w highlights the skill and creativity of our Studio Members\, whose work i
 s created and fired on-site in our ceramic studio. This summer’s install
 ment invites visitors to explore a diverse selection of handmade functiona
 l and sculptural pieces while directly supporting the artists who make the
 m.
LOCATION:323 Franklin Road\, Highlands\, NC 28741 
DTSTART:20260717T140000Z
DTEND:20260718T200000Z
DTSTAMP:20251210T213418Z
ORGANIZER;CN=The Bascom:MAILTO:info@thebascom.org
GEO:35.05781;-83.204179
X-APPLE-STRUCTURED-LOCATION;VALUE=URI;X-ADDRESS=323 Franklin Road\, Highlan
 ds\, NC 28741 ;X-APPLE-RADIUS=72;X-TITLE=Dave Drake Barn:35.05781;-83.2041
 79
END:VEVENT
END:VCALENDAR