BEGIN:VCALENDAR
VERSION:2.0
PRODID:Events Booking
BEGIN:VEVENT
UID:69e9bba0d67bf
SUMMARY:Learn to Turn I: An Intro to Woodturning with John Tagliarini 
DESCRIPTION:
 
 
 
 Students will make beautiful and useful turnings us
 ing the three basic cuts of woodturning with gouges. We will begin in “s
 pindle orientation” by turning a mallet\, a tool handle\, a goblet\, and
  a twig pot. Then we hope to make at least two bowls\, one with a round to
 p and one with a natural edge. We will practice safe technique at the lath
 e as we also learn to sharpen the gouges using various jigs and tables.
 
 
 
 
 
LOCATION:323 Franklin Road\, Highlands\, NC 28741
DTSTART:20260826T130000Z
DTEND:20260828T200000Z
DTSTAMP:20251224T010942Z
ORGANIZER;CN=The Bascom:MAILTO:info@thebascom.org
GEO:35.05781;-83.204179
X-APPLE-STRUCTURED-LOCATION;VALUE=URI;X-ADDRESS=323 Franklin Road\, Highlan
 ds\, NC 28741;X-APPLE-RADIUS=72;X-TITLE=The Bascom: Adult Studio B (Trail 
 Level):35.05781;-83.204179
END:VEVENT
END:VCALENDAR