BEGIN:VCALENDAR
VERSION:2.0
PRODID:Events Booking
BEGIN:VEVENT
UID:69e9bb3a73e72
SUMMARY:Adult Printmaking: Garden Party Monoprints
DESCRIPTION:Celebrate the colors and textures of summer while exploring mon
 oprinting techniques to create unique works in ink. Using flowers\, leaves
 \, and other garden materials\, participants will learn the basics of gell
 i plate printmaking and experiment with printing on one of The Bascom’s 
 presses.
 This hands-on\, beginner-friendly workshop requires no prior ex
 perience and produces vibrant prints that can be enjoyed on their own or u
 sed as inspiration for future prints and collages.
 Supplies incluced.
LOCATION:323 Franklin Road\, Highlands\, NC 28741
DTSTART:20260801T180000Z
DTEND:20260801T200000Z
DTSTAMP:20260122T212735Z
ORGANIZER;CN=The Bascom:MAILTO:info@thebascom.org
GEO:35.05781;-83.204179
X-APPLE-STRUCTURED-LOCATION;VALUE=URI;X-ADDRESS=323 Franklin Road\, Highlan
 ds\, NC 28741;X-APPLE-RADIUS=72;X-TITLE=The Bascom: Hughes Children's Stud
 io (Trail Level):35.05781;-83.204179
END:VEVENT
END:VCALENDAR