BEGIN:VCALENDAR
VERSION:2.0
PRODID:Events Booking
BEGIN:VEVENT
UID:69e9cac0a5d1c
SUMMARY:All Ages Pottery: Wizard Hat Luminary
DESCRIPTION:Make a wizard hat luminary using clay slabs. Work will be avail
 able for pickup or shipping two to three weeks after class.
 Suitable for
  ages 6-18
DTSTART:20261017T140000Z
DTEND:20261017T160000Z
DTSTAMP:20251217T213117Z
ORGANIZER;CN=The Bascom:MAILTO:info@thebascom.org
END:VEVENT
END:VCALENDAR