BEGIN:VCALENDAR
VERSION:2.0
PRODID:Events Booking
BEGIN:VEVENT
UID:69e9a919edea2
SUMMARY:3 Day Leather Crafting Workshop with Tom Slavicek
DESCRIPTION:You will have time to work on 4 or more leather projects depend
 ing on size and complexity. Choices for your projects can be from the foll
 owing: Make a leather shoulder bag or two\, make a tote\, learn how to use
  a wood burning tool to inscribe a design onto the leather and then colori
 ze it. With your first bag all done on Day One you can make some accessori
 es for days two and three\, such as a leather belt\, phone pouch\, key fob
 s\, “magic braid” bracelets\, and other smaller projects…OR…you ca
 n make another bag such as a Fringe Bag\, portfolio\, etc.!&nbsp\;
LOCATION:323 Franklin Road\, Highlands\, NC 28741
DTSTART:20260422T140000Z
DTEND:20260424T200000Z
DTSTAMP:20251204T024211Z
ORGANIZER;CN=The Bascom:MAILTO:info@thebascom.org
GEO:35.05781;-83.204179
X-APPLE-STRUCTURED-LOCATION;VALUE=URI;X-ADDRESS=323 Franklin Road\, Highlan
 ds\, NC 28741;X-APPLE-RADIUS=72;X-TITLE=The Bascom: Adult Studio B (Trail 
 Level):35.05781;-83.204179
END:VEVENT
END:VCALENDAR