BEGIN:VCALENDAR
VERSION:2.0
PRODID:Events Booking
BEGIN:VEVENT
UID:69e9bf8ded1a3
SUMMARY:Youth Homeschool Pottery: Gingerbread House	
DESCRIPTION:Students will make&nbsp\; and decorate their own clay gingerbre
 ad house.&nbsp\; Students will glaze their pottery on the last day of clas
 s and work will be available for pickup or shipping two to three weeks aft
 er last class.
 Class Meets: November 4\, 11\, and 18
 Suitable for ages
  8-18
LOCATION:323 Franklin Road\, Highlands\, NC 28741
DTSTART:20261104T183000Z
DTEND:20261118T200000Z
DTSTAMP:20251217T204028Z
ORGANIZER;CN=The Bascom:MAILTO:info@thebascom.org
GEO:35.05781;-83.204179
X-APPLE-STRUCTURED-LOCATION;VALUE=URI;X-ADDRESS=323 Franklin Road\, Highlan
 ds\, NC 28741;X-APPLE-RADIUS=72;X-TITLE=The Bascom: Hughes Children's Stud
 io (Trail Level):35.05781;-83.204179
END:VEVENT
END:VCALENDAR