BEGIN:VCALENDAR
VERSION:2.0
PRODID:Events Booking
BEGIN:VEVENT
UID:69e99bf7411f6
SUMMARY:Photographs in Fusion: Handmade Paper & Photo Transfers with Kaye S
 avage
DESCRIPTION:
 
 
 
 
 This 3-day exploration will be an opportunity to
  unite your photographic practice with the materiality of place. Starting 
 with photography\, we will make unique and personal images on the Bartram 
 trail. Next\, we'll incorporate elements of the Bartram Trail landscape\, 
 including soil pigments and found plant fragments\, into handmade paper. T
 hen\, we'll use photographic image transfer techniques to delight in the u
 nique qualities of your photographs in fusion with newly crafted sheets of
  paper.  This workshop is open to photographers and makers of all levels. 
 Participants will be offered the opportunity to have their photographs jur
 ied into the Listening to the Land: Reimagining the Bartram Trail communit
 y exhibition in Fall 2023.
 Photo Credit:&nbsp\; Kaye Savage
 
 
 
 
LOCATION:323 Franklin Road\, Highlands\, NC 28741
DTSTART:20230628T140000Z
DTEND:20230630T200000Z
DTSTAMP:20221220T230040Z
ORGANIZER;CN=The Bascom:MAILTO:info@thebascom.org
GEO:35.05781;-83.204179
X-APPLE-STRUCTURED-LOCATION;VALUE=URI;X-ADDRESS=323 Franklin Road\, Highlan
 ds\, NC 28741;X-APPLE-RADIUS=72;X-TITLE=The Bascom: Adult Studio B (Trail 
 Level):35.05781;-83.204179
END:VEVENT
END:VCALENDAR