BEGIN:VCALENDAR
VERSION:2.0
PRODID:Events Booking
BEGIN:VEVENT
UID:69e9b901dd2c0
SUMMARY:Magical Mountains Majesty
DESCRIPTION:The Bascom invites young artists to get creative with instructo
 r Caryn Raming as they make art inspired by the beauty of nature and the e
 xcitement of the Fourth of July. From sea to shining sea\, students will p
 lay with color and texture while creating imaginative artworks celebrating
  America’s landscapes.&nbsp\;
 Bring a lunch or snack\, and get ready t
 o CREATE!
 Ages 7–12
LOCATION:323 Franklin Road\, Highlands\, NC 28741
DTSTART:20260623T150000Z
DTEND:20260625T180000Z
DTSTAMP:20251231T015952Z
ORGANIZER;CN=The Bascom:MAILTO:info@thebascom.org
GEO:35.05781;-83.204179
X-APPLE-STRUCTURED-LOCATION;VALUE=URI;X-ADDRESS=323 Franklin Road\, Highlan
 ds\, NC 28741;X-APPLE-RADIUS=72;X-TITLE=The Bascom: Hughes Children's Stud
 io (Trail Level):35.05781;-83.204179
END:VEVENT
END:VCALENDAR