BEGIN:VCALENDAR
VERSION:2.0
PRODID:Events Booking
BEGIN:VEVENT
UID:69e9bf8c8480d
SUMMARY:Look-Think-Paint: The key to Creative Breakthroughs and Beautiful P
 aintings with John Guernsey
DESCRIPTION:View the Supply List HERE
 This workshop with award-winning pa
 inter and teacher John Guernsey emphasizes careful observation\, thoughtfu
 l decision-making\, and expressive painting. Through demonstrations\, grou
 p discussion\, and guided studio time\, participants will refine essential
  skills while developing work that reflects personal intent. Open to all s
 kill levels\, working in oil or acrylic.
LOCATION:323 Franklin Road\, Highlands\, NC 28741
DTSTART:20260527T140000Z
DTEND:20260529T200000Z
DTSTAMP:20251211T022110Z
ORGANIZER;CN=The Bascom:MAILTO:info@thebascom.org
GEO:35.05781;-83.204179
X-APPLE-STRUCTURED-LOCATION;VALUE=URI;X-ADDRESS=323 Franklin Road\, Highlan
 ds\, NC 28741;X-APPLE-RADIUS=72;X-TITLE=The Bascom: Adult Studio B (Trail 
 Level):35.05781;-83.204179
END:VEVENT
END:VCALENDAR