BEGIN:VCALENDAR
VERSION:2.0
PRODID:Events Booking
BEGIN:VEVENT
UID:69e9d2b879a32
SUMMARY:Contemporary Landscape Painting using Traditional and Abstract Tech
 niques with Chris Groves
DESCRIPTION:View the Supply list HERE
 This workshop with Chris Groves ble
 nds the fundamentals of classical landscape painting with principles of ab
 straction to encourage a looser\, more expressive approach. Through mark-m
 aking\, color studies\, compositional exploration\, and demonstrations\, p
 articipants will push beyond the obvious while developing larger-scale wor
 ks. Experimentation with oil paint\, cold wax\, and Galkyd is included\, w
 ith frequent individual guidance throughout.
LOCATION:323 Franklin Road\, Highlands\, NC 28741
DTSTART:20260805T140000Z
DTEND:20260807T200000Z
DTSTAMP:20251211T204143Z
ORGANIZER;CN=The Bascom:MAILTO:info@thebascom.org
GEO:35.05781;-83.204179
X-APPLE-STRUCTURED-LOCATION;VALUE=URI;X-ADDRESS=323 Franklin Road\, Highlan
 ds\, NC 28741;X-APPLE-RADIUS=72;X-TITLE=The Bascom: Adult Studio B (Trail 
 Level):35.05781;-83.204179
END:VEVENT
END:VCALENDAR