BEGIN:VCALENDAR
VERSION:2.0
PRODID:Events Booking
BEGIN:VEVENT
UID:69e9b91bf2480
SUMMARY:Mindful Creations: Kintsugi Collage
DESCRIPTION:Inspired by the Japanese practice of Kintsugi\, this collage wo
 rkshop invites participants to explore mindfulness and self-compassion by 
 transforming fragments into a unified work\, honoring imperfections as pla
 ces of strength\, beauty\, and light.
 This class is presented in partner
 ship with the&nbsp\;Counseling Center of Highlands and the Highlands Cashi
 ers Health Foundation as part of their Bee Kind mental health awareness in
 itiative.
LOCATION:323 Franklin Road\, Highlands\, NC 28741
DTSTART:20260509T180000Z
DTEND:20260509T200000Z
DTSTAMP:20260124T211207Z
ORGANIZER;CN=The Bascom:MAILTO:info@thebascom.org
GEO:35.05781;-83.204179
X-APPLE-STRUCTURED-LOCATION;VALUE=URI;X-ADDRESS=323 Franklin Road\, Highlan
 ds\, NC 28741;X-APPLE-RADIUS=72;X-TITLE=The Bascom: Hughes Children's Stud
 io (Trail Level):35.05781;-83.204179
END:VEVENT
END:VCALENDAR