BEGIN:VCALENDAR
VERSION:2.0
PRODID:Events Booking
BEGIN:VEVENT
UID:69e9d2f1b9f83
SUMMARY:All Ages Pottery: Turkey Pinch Pot Vase
DESCRIPTION:&nbsp\;Inspired by the classic handprint turkey\, make a pinch 
 pot turkey (with your hand as the tail) and turn it into a special holiday
  vase. Work will be available for pickup or shipping two weeks after class
 .
 Suitable for ages 6 and up&nbsp\;
LOCATION:323 Franklin Road\, Highlands\, NC 28741 
DTSTART:20261107T150000Z
DTEND:20261107T170000Z
DTSTAMP:20251217T205136Z
ORGANIZER;CN=The Bascom:MAILTO:info@thebascom.org
GEO:35.05781;-83.204179
X-APPLE-STRUCTURED-LOCATION;VALUE=URI;X-ADDRESS=323 Franklin Road\, Highlan
 ds\, NC 28741 ;X-APPLE-RADIUS=72;X-TITLE=Dave Drake Barn:35.05781;-83.2041
 79
END:VEVENT
END:VCALENDAR