BEGIN:VCALENDAR
VERSION:2.0
PRODID:Events Booking
BEGIN:VEVENT
UID:69e9bf836d48a
SUMMARY:All Ages Pottery - Pinch Pot Animals
DESCRIPTION:Learn to make pinch pots and turn them into an animal\, real or
  imaginary. Students can bring a stuffed animal or picture from home to us
 e for reference if desired.&nbsp\; Work will be available for pickup or sh
 ipping two to three weeks after class
 Ages:
 6 and up&nbsp\;
LOCATION:323 Franklin Road\, Highlands\, NC 28741 
DTSTART:20260808T140000Z
DTEND:20260808T160000Z
DTSTAMP:20251218T032122Z
ORGANIZER;CN=The Bascom:MAILTO:info@thebascom.org
GEO:35.05781;-83.204179
X-APPLE-STRUCTURED-LOCATION;VALUE=URI;X-ADDRESS=323 Franklin Road\, Highlan
 ds\, NC 28741 ;X-APPLE-RADIUS=72;X-TITLE=The Studio Covered Terrace:35.057
 81;-83.204179
END:VEVENT
END:VCALENDAR