BEGIN:VCALENDAR
VERSION:2.0
PRODID:Events Booking
BEGIN:VEVENT
UID:69e9be6eb4566
SUMMARY:Youth Homeschool Pottery: Dish Set 	
DESCRIPTION:Make your own food safe plate\, bowl\, cup and spoon! Students 
 will glaze their pottery on the last day of class and work will be availab
 le for pickup or shipping in January.
 Class Meets: December 2\, 9\, and 
 16
 Suitable for ages 6-18
LOCATION:323 Franklin Road\, Highlands\, NC 28741
DTSTART:20261202T183000Z
DTEND:20261216T200000Z
DTSTAMP:20251217T203324Z
ORGANIZER;CN=The Bascom:MAILTO:info@thebascom.org
GEO:35.05781;-83.204179
X-APPLE-STRUCTURED-LOCATION;VALUE=URI;X-ADDRESS=323 Franklin Road\, Highlan
 ds\, NC 28741;X-APPLE-RADIUS=72;X-TITLE=The Bascom: Hughes Children's Stud
 io (Trail Level):35.05781;-83.204179
END:VEVENT
END:VCALENDAR