BEGIN:VCALENDAR
VERSION:2.0
PRODID:Events Booking
BEGIN:VEVENT
UID:69e9aa9b079c6
SUMMARY:All Ages Pottery: Empty Bowls
DESCRIPTION:Come help us make bowls for the annual Empty Bowls fundraiser\,
  which supports the International Friendship Center and the Highlands Food
  Pantry. You will make a bowl to donate and one to keep for yourself. Stud
 ent work will be available for pickup or shipping two to three weeks after
  class.
 Suitable for ages 6 and up.&nbsp\;
LOCATION:323 Franklin Road\, Highlands\, NC 28741 
DTSTART:20260516T140000Z
DTEND:20260516T160000Z
DTSTAMP:20251218T004505Z
ORGANIZER;CN=The Bascom:MAILTO:info@thebascom.org
GEO:35.05781;-83.204179
X-APPLE-STRUCTURED-LOCATION;VALUE=URI;X-ADDRESS=323 Franklin Road\, Highlan
 ds\, NC 28741 ;X-APPLE-RADIUS=72;X-TITLE=Dave Drake Barn:35.05781;-83.2041
 79
END:VEVENT
END:VCALENDAR