BEGIN:VCALENDAR
VERSION:2.0
PRODID:Events Booking
BEGIN:VEVENT
UID:69e9cb1ba8e21
SUMMARY:Afterschool Pottery: Gingerbread House
DESCRIPTION:Students will make&nbsp\; and decorate their own clay gingerbre
 ad house.&nbsp\; Students will glaze their pottery on the last day of clas
 s and work will be available for pickup or shipping two to three weeks aft
 er last class.
 Class Meets: November 5\, 12\, and 19
 Suitable for ages
  8-18
LOCATION:323 Franklin Road\, Highlands\, NC 28741
DTSTART:20261105T204500Z
DTEND:20261119T220000Z
DTSTAMP:20251217T204252Z
ORGANIZER;CN=The Bascom:MAILTO:info@thebascom.org
GEO:35.05781;-83.204179
X-APPLE-STRUCTURED-LOCATION;VALUE=URI;X-ADDRESS=323 Franklin Road\, Highlan
 ds\, NC 28741;X-APPLE-RADIUS=72;X-TITLE=The Bascom: Hughes Children's Stud
 io (Trail Level):35.05781;-83.204179
END:VEVENT
END:VCALENDAR