BEGIN:VCALENDAR
VERSION:2.0
PRODID:Events Booking
BEGIN:VEVENT
UID:69e9974ab5ec1
SUMMARY:Listening to the Land: Contemplative Nature Photography with Susan 
 Patrice (online)
DESCRIPTION:
 Photographers of all levels are welcome and even seasoned pr
 actitioners should find value in this unique approach to the medium. Parti
 cipants will be offered the opportunity to have their photographs juried i
 nto the Listening to the Land: Reimagining the Bartram Trail community exh
 ibition in Fall 2023.&nbsp\;
LOCATION:Online
DTSTART:20230207T230000Z
DTEND:20230314T233000Z
DTSTAMP:20221215T222239Z
ORGANIZER;CN=The Bascom:MAILTO:info@thebascom.org
END:VEVENT
END:VCALENDAR