BEGIN:VCALENDAR
VERSION:2.0
PRODID:Events Booking
BEGIN:VEVENT
UID:69ec0550bb626
SUMMARY:Exploring Printmaking through Nature
DESCRIPTION:Explore the magic of printmaking in this one-day workshop with 
 artist Mia Loia. Suitable for all skill levels\, the class includes creati
 ng monoprints with natural specimens and carving relief blocks inspired by
  wildlife. Learn to use ink and a press to craft repeatable works on paper
 .
LOCATION:323 Franklin Road\, Highlands\, NC 28741
DTSTART:20250517T140000Z
DTEND:20250517T200000Z
DTSTAMP:20241216T195243Z
ORGANIZER;CN=The Bascom:MAILTO:info@thebascom.org
GEO:35.05781;-83.204179
X-APPLE-STRUCTURED-LOCATION;VALUE=URI;X-ADDRESS=323 Franklin Road\, Highlan
 ds\, NC 28741;X-APPLE-RADIUS=72;X-TITLE=The Bascom: Adult Studio B (Trail 
 Level):35.05781;-83.204179
END:VEVENT
END:VCALENDAR