BEGIN:VCALENDAR
VERSION:2.0
PRODID:Events Booking
BEGIN:VEVENT
UID:69e9cb043c46f
SUMMARY:Dazzling Dahlia Festival- 2026
DESCRIPTION:The Dazzling Dahlia Festival returns in 2026 as a vibrant celeb
 ration of horticulture\, art\, and community on The Bascom campus. Rooted 
 in the Plateau’s long-standing appreciation for gardens and creative exp
 ression\, the festival brings together growers\, artists\, and visitors fo
 r a shared exploration of form\, color\, and seasonal abundance.
LOCATION:The Bascom
DTSTART:20260910T210000Z
DTEND:20260912T200000Z
DTSTAMP:20251217T200737Z
ORGANIZER;CN=The Bascom:MAILTO:info@thebascom.org
GEO:28.61492;77.22173
X-APPLE-STRUCTURED-LOCATION;VALUE=URI;X-ADDRESS=The Bascom;X-APPLE-RADIUS=7
 2;X-TITLE=Bascom Campus:28.61492;77.22173
END:VEVENT
END:VCALENDAR