BEGIN:VCALENDAR
VERSION:2.0
PRODID:Events Booking
BEGIN:VEVENT
UID:69e9cacad4d57
SUMMARY:Youth Afterschool Pottery: Pumpkins
DESCRIPTION:Make all kinds of clay pumpkins and help us get ready for the P
 umpkin Scavenger Hunt. Students will glaze their pottery on the last day o
 f class and work will be available for pickup or shipping two to three wee
 ks after class.
 Class Meets: September 10\, 17\, and 24
 Suitable for a
 ges: 6-18
LOCATION:323 Franklin Road\, Highlands\, NC 28741 
DTSTART:20260910T194500Z
DTEND:20260924T210000Z
DTSTAMP:20251217T215042Z
ORGANIZER;CN=The Bascom:MAILTO:info@thebascom.org
GEO:35.05781;-83.204179
X-APPLE-STRUCTURED-LOCATION;VALUE=URI;X-ADDRESS=323 Franklin Road\, Highlan
 ds\, NC 28741 ;X-APPLE-RADIUS=72;X-TITLE=The Studio Covered Terrace:35.057
 81;-83.204179
END:VEVENT
END:VCALENDAR