BEGIN:VCALENDAR
VERSION:2.0
PRODID:Events Booking
BEGIN:VEVENT
UID:69e9cb02d60d3
SUMMARY:Still life Painting in Oils with Marc Chatov
DESCRIPTION:View the Supply List HERE
 Still life Painting in Oils with Ma
 rc Chatov - Through painting the still-life\, one can acquire the knowledg
 e of ‘painting basics’. They apply to all painting and drawing in deal
 ing with composition\, value\, and application of paint. This workshop wil
 l be centered on utilizing objects of personal interest to develop composi
 tions and design to a finished painting. *Please bring 2-3 objects\, simpl
 er in form and design\, to the workshop. Chatov’s workshop environments 
 are casual\, encouraging\, and informative. Marc will give a demonstration
  two mornings followed by individual instruction.
LOCATION:323 Franklin Road\, Highlands\, NC 28741
DTSTART:20260930T140000Z
DTEND:20261002T200000Z
DTSTAMP:20251219T023511Z
ORGANIZER;CN=The Bascom:MAILTO:info@thebascom.org
GEO:35.05781;-83.204179
X-APPLE-STRUCTURED-LOCATION;VALUE=URI;X-ADDRESS=323 Franklin Road\, Highlan
 ds\, NC 28741;X-APPLE-RADIUS=72;X-TITLE=The Bascom: Adult Studio B (Trail 
 Level):35.05781;-83.204179
END:VEVENT
END:VCALENDAR