BEGIN:VCALENDAR
VERSION:2.0
PRODID:Events Booking
BEGIN:VEVENT
UID:69e9ac6758575
SUMMARY:Alla Prima Portrait Painting with David Shevlino
DESCRIPTION:View the Supply List HERE
 This class is about painting the po
 rtrait alla prima (wet into wet) and the techniques used to create a fresh
 \, direct response to our subjects.&nbsp\; After a demonstration\, the cla
 ss will work from a live model.&nbsp\; &nbsp\;Emphasis will be on simplify
 ing and interpreting the face and head as a series of basic shapes/planes 
 described by light and shadow.&nbsp\; In addition to discussing value\, co
 lor and paint application\, we’ll also talk about basic proportions of t
 he head and facial features. By learning to simplify what we see\, we beco
 me better able to paint our subjects with greater clarity and directness. 
 &nbsp\;This class will be particularly helpful to students who wish to pai
 nt more loosely and to use their brushstrokes with economy.
LOCATION:323 Franklin Road\, Highlands\, NC 28741
DTSTART:20260610T130000Z
DTEND:20260612T200000Z
DTSTAMP:20251209T232503Z
ORGANIZER;CN=The Bascom:MAILTO:info@thebascom.org
GEO:35.05781;-83.204179
X-APPLE-STRUCTURED-LOCATION;VALUE=URI;X-ADDRESS=323 Franklin Road\, Highlan
 ds\, NC 28741;X-APPLE-RADIUS=72;X-TITLE=The Bascom: Adult Studio B (Trail 
 Level):35.05781;-83.204179
END:VEVENT
END:VCALENDAR