BEGIN:VCALENDAR
VERSION:2.0
PRODID:Events Booking
BEGIN:VEVENT
UID:69e9bd105e7fc
SUMMARY:The Language of Layers: Discovering Your Artistic Voice in Oil and 
 Cold Wax with Lisa Boardwine
DESCRIPTION:View the Supply List HERE
 This workshop is designed for artis
 ts eager to explore the expressive possibilities of abstraction through th
 e versatile medium of oil and cold wax. Together we’ll experiment with m
 ark making\, layering\, texture and color to build rich\, luminous surface
 s that tell a story. Through guided exercises and demonstrations\, you’l
 l learn how to combine intuitive gestures with thoughtful composition — 
 allowing your personal artistic voice to emerge naturally.&nbsp\;This clas
 s invites freedom\, play\, and discovery. The workshop will encourage you 
 to take risks\, embrace process\, and trust your intuition as you create c
 ompelling\, light and texture-filled abstract paintings.
 Whether you’r
 e new to cold wax medium or seeking to deepen your practice\, you’ll lea
 ve with fresh techniques\, finished pieces\, and renewed inspiration for y
 our art journey. Join me and let's paint together May 20th-22nd!
LOCATION:323 Franklin Road\, Highlands\, NC 28741
DTSTART:20260520T140000Z
DTEND:20260522T200000Z
DTSTAMP:20251218T220428Z
ORGANIZER;CN=The Bascom:MAILTO:info@thebascom.org
GEO:35.05781;-83.204179
X-APPLE-STRUCTURED-LOCATION;VALUE=URI;X-ADDRESS=323 Franklin Road\, Highlan
 ds\, NC 28741;X-APPLE-RADIUS=72;X-TITLE=The Bascom: Adult Studio B (Trail 
 Level):35.05781;-83.204179
END:VEVENT
END:VCALENDAR