BEGIN:VCALENDAR
VERSION:2.0
PRODID:Events Booking
BEGIN:VEVENT
UID:69e9bcf7104d7
SUMMARY:Hot off the Press! All about Printmaking
DESCRIPTION:The Bascom invites young artists to get creative with instructo
 r Caryn Raming in this exciting introduction to printmaking. Students will
  explore fun techniques while experimenting with color\, texture\, and lay
 ered designs.
 Bring a lunch or snack\, and get ready to CREATE!
 Ages 7
 –12
LOCATION:323 Franklin Road\, Highlands\, NC 28741
DTSTART:20260707T150000Z
DTEND:20260709T180000Z
DTSTAMP:20260116T213801Z
ORGANIZER;CN=The Bascom:MAILTO:info@thebascom.org
GEO:35.05781;-83.204179
X-APPLE-STRUCTURED-LOCATION;VALUE=URI;X-ADDRESS=323 Franklin Road\, Highlan
 ds\, NC 28741;X-APPLE-RADIUS=72;X-TITLE=The Bascom: Hughes Children's Stud
 io (Trail Level):35.05781;-83.204179
END:VEVENT
END:VCALENDAR