BEGIN:VCALENDAR
VERSION:2.0
PRODID:Events Booking
BEGIN:VEVENT
UID:69e9bc80588b5
SUMMARY:FREE the Art: Reimagine Recycling! 
DESCRIPTION:The Bascom invites young artists to work with Caryn Raming turn
  everyday discarded materials into imaginative artworks while learning cre
 ative ways to reduce waste. Through hands-on exploration\, participants wi
 ll discover how reuse and creativity can transform trash into meaningful a
 rt.
 Bring a lunch or snack\, and get ready to CREATE!
 Ages 7-12
LOCATION:323 Franklin Road\, Highlands\, NC 28741
DTSTART:20260602T150000Z
DTEND:20260604T180000Z
DTSTAMP:20251231T015814Z
ORGANIZER;CN=The Bascom:MAILTO:info@thebascom.org
GEO:35.05781;-83.204179
X-APPLE-STRUCTURED-LOCATION;VALUE=URI;X-ADDRESS=323 Franklin Road\, Highlan
 ds\, NC 28741;X-APPLE-RADIUS=72;X-TITLE=The Bascom: Hughes Children's Stud
 io (Trail Level):35.05781;-83.204179
END:VEVENT
END:VCALENDAR