BEGIN:VCALENDAR
VERSION:2.0
PRODID:Events Booking
BEGIN:VEVENT
UID:69e9bd9c09aeb
SUMMARY:Floral Application
DESCRIPTION:In this class you will learn to craft a variety of flowers with
  clay to adorn hand built and thrown vases. Each participant will be given
  one thrown vase to decorate and make one hand-built vase to decorate.&nbs
 p\; Glazing will take place on September 9th. No experience necessary.&nbs
 p\;
LOCATION:323 Franklin Road\, Highlands\, NC 28741 
DTSTART:20260901T140000Z
DTEND:20260909T160000Z
DTSTAMP:20251224T024519Z
ORGANIZER;CN=The Bascom:MAILTO:info@thebascom.org
GEO:35.05781;-83.204179
X-APPLE-STRUCTURED-LOCATION;VALUE=URI;X-ADDRESS=323 Franklin Road\, Highlan
 ds\, NC 28741 ;X-APPLE-RADIUS=72;X-TITLE=Dave Drake Barn:35.05781;-83.2041
 79
END:VEVENT
END:VCALENDAR