BEGIN:VCALENDAR
VERSION:2.0
PRODID:Events Booking
BEGIN:VEVENT
UID:69e9bca17ca78
SUMMARY:Bark to Basket Workshop with The Primitive Arts' Andrew Lee
DESCRIPTION:This hands-on\, one-day workshop takes students through the ful
 l process of creating a poplar bark basket\; from harvesting bark from fre
 sh logs to building and embellishing a finished piece.
 Ages 18+. No prio
 r knowledge of or experience with basketry is necessary. All Matierals and
  equipment provided.
LOCATION:323 Franklin Road\, Highlands\, NC 28741
DTSTART:20260523T140000Z
DTEND:20260523T200000Z
DTSTAMP:20251219T004803Z
ORGANIZER;CN=The Bascom:MAILTO:info@thebascom.org
GEO:35.05781;-83.204179
X-APPLE-STRUCTURED-LOCATION;VALUE=URI;X-ADDRESS=323 Franklin Road\, Highlan
 ds\, NC 28741;X-APPLE-RADIUS=72;X-TITLE=The Bascom: Adult Studio B (Trail 
 Level):35.05781;-83.204179
END:VEVENT
END:VCALENDAR